BEGIN:VCALENDAR
VERSION:2.0
PRODID:-//Canvas, Corks &amp; Forks - ECPv6.15.18//NONSGML v1.0//EN
CALSCALE:GREGORIAN
METHOD:PUBLISH
X-WR-CALNAME:Canvas, Corks &amp; Forks
X-ORIGINAL-URL:https://canvascorksandforks.com
X-WR-CALDESC:Events for Canvas, Corks &amp; Forks
REFRESH-INTERVAL;VALUE=DURATION:PT1H
X-Robots-Tag:noindex
X-PUBLISHED-TTL:PT1H
BEGIN:VTIMEZONE
TZID:America/New_York
BEGIN:DAYLIGHT
TZOFFSETFROM:-0500
TZOFFSETTO:-0400
TZNAME:EDT
DTSTART:20250309T070000
END:DAYLIGHT
BEGIN:STANDARD
TZOFFSETFROM:-0400
TZOFFSETTO:-0500
TZNAME:EST
DTSTART:20251102T060000
END:STANDARD
BEGIN:DAYLIGHT
TZOFFSETFROM:-0500
TZOFFSETTO:-0400
TZNAME:EDT
DTSTART:20260308T070000
END:DAYLIGHT
BEGIN:STANDARD
TZOFFSETFROM:-0400
TZOFFSETTO:-0500
TZNAME:EST
DTSTART:20261101T060000
END:STANDARD
BEGIN:DAYLIGHT
TZOFFSETFROM:-0500
TZOFFSETTO:-0400
TZNAME:EDT
DTSTART:20270314T070000
END:DAYLIGHT
BEGIN:STANDARD
TZOFFSETFROM:-0400
TZOFFSETTO:-0500
TZNAME:EST
DTSTART:20271107T060000
END:STANDARD
END:VTIMEZONE
BEGIN:VEVENT
DTSTART;TZID=America/New_York:20260420T183000
DTEND;TZID=America/New_York:20260420T203000
DTSTAMP:20260420T055848
CREATED:20260321T034714Z
LAST-MODIFIED:20260321T034714Z
UID:10002324-1776709800-1776717000@canvascorksandforks.com
SUMMARY:420! Puff N' Paint Bongs!  Limited Seating! 21 +
DESCRIPTION:420!! Bongs!! Bring your ideas or let us help you along!
URL:https://canvascorksandforks.com/class/420-puff-n-paint-bongs-limited-seating-21/
LOCATION:Schenectady Canvas Corks & Forks\, 402 Union Street\, Schenectady\, 12305\, United States
CATEGORIES:Adult
ATTACH;FMTTYPE=image/jpeg:https://canvascorksandforks.com/wp-content/uploads/bong-7-scaled.jpg
GEO:42;-73
X-APPLE-STRUCTURED-LOCATION;VALUE=URI;X-ADDRESS=Schenectady Canvas Corks & Forks 402 Union Street Schenectady 12305 United States;X-APPLE-RADIUS=500;X-TITLE=402 Union Street:geo:-73,42
END:VEVENT
BEGIN:VEVENT
DTSTART;TZID=America/New_York:20260420T183000
DTEND;TZID=America/New_York:20260420T203000
DTSTAMP:20260420T055848
CREATED:20260321T041755Z
LAST-MODIFIED:20260321T042347Z
UID:10002327-1776709800-1776717000@canvascorksandforks.com
SUMMARY:420 Puff N' Paint Northern Lights Leaf!
DESCRIPTION:Join us with your valid ID 21+ to create N Lights or a painting of your choosing on your canna leaf!!
URL:https://canvascorksandforks.com/class/420-puff-n-paint-northern-lights-leaf/
LOCATION:Schenectady Canvas Corks & Forks\, 402 Union Street\, Schenectady\, 12305\, United States
CATEGORIES:Adult
ATTACH;FMTTYPE=image/jpeg:https://canvascorksandforks.com/wp-content/uploads/Pot-leaf-wood-mt-northern-lights.jpeg
GEO:42;-73
X-APPLE-STRUCTURED-LOCATION;VALUE=URI;X-ADDRESS=Schenectady Canvas Corks & Forks 402 Union Street Schenectady 12305 United States;X-APPLE-RADIUS=500;X-TITLE=402 Union Street:geo:-73,42
END:VEVENT
END:VCALENDAR