BEGIN:VCALENDAR
VERSION:2.0
PRODID:-//Canvas, Corks &amp; Forks - ECPv6.15.18//NONSGML v1.0//EN
CALSCALE:GREGORIAN
METHOD:PUBLISH
X-ORIGINAL-URL:https://canvascorksandforks.com
X-WR-CALDESC:Events for Canvas, Corks &amp; Forks
REFRESH-INTERVAL;VALUE=DURATION:PT1H
X-Robots-Tag:noindex
X-PUBLISHED-TTL:PT1H
BEGIN:VTIMEZONE
TZID:America/New_York
BEGIN:DAYLIGHT
TZOFFSETFROM:-0500
TZOFFSETTO:-0400
TZNAME:EDT
DTSTART:20250309T070000
END:DAYLIGHT
BEGIN:STANDARD
TZOFFSETFROM:-0400
TZOFFSETTO:-0500
TZNAME:EST
DTSTART:20251102T060000
END:STANDARD
BEGIN:DAYLIGHT
TZOFFSETFROM:-0500
TZOFFSETTO:-0400
TZNAME:EDT
DTSTART:20260308T070000
END:DAYLIGHT
BEGIN:STANDARD
TZOFFSETFROM:-0400
TZOFFSETTO:-0500
TZNAME:EST
DTSTART:20261101T060000
END:STANDARD
BEGIN:DAYLIGHT
TZOFFSETFROM:-0500
TZOFFSETTO:-0400
TZNAME:EDT
DTSTART:20270314T070000
END:DAYLIGHT
BEGIN:STANDARD
TZOFFSETFROM:-0400
TZOFFSETTO:-0500
TZNAME:EST
DTSTART:20271107T060000
END:STANDARD
END:VTIMEZONE
BEGIN:VEVENT
DTSTART;TZID=America/New_York:20260530T130000
DTEND;TZID=America/New_York:20260530T143000
DTSTAMP:20260425T171141
CREATED:20260321T034111Z
LAST-MODIFIED:20260417T135650Z
UID:10002323-1780146000-1780151400@canvascorksandforks.com
SUMMARY:Our Lovely Goat!!
DESCRIPTION:Create your cute and cozy goat!
URL:https://canvascorksandforks.com/class/our-lovely-goat/
LOCATION:Schenectady Canvas Corks & Forks\, 402 Union Street\, Schenectady\, 12305\, United States
CATEGORIES:Adult,Children
ATTACH;FMTTYPE=image/jpeg:https://canvascorksandforks.com/wp-content/uploads/GOAT-WITH-FLOWERS-Bonus.jpg
GEO:42;-73
X-APPLE-STRUCTURED-LOCATION;VALUE=URI;X-ADDRESS=Schenectady Canvas Corks & Forks 402 Union Street Schenectady 12305 United States;X-APPLE-RADIUS=500;X-TITLE=402 Union Street:geo:-73,42
END:VEVENT
BEGIN:VEVENT
DTSTART;TZID=America/New_York:20260530T160000
DTEND;TZID=America/New_York:20260530T180000
DTSTAMP:20260425T171141
CREATED:20260330T203116Z
LAST-MODIFIED:20260330T203116Z
UID:10002342-1780156800-1780164000@canvascorksandforks.com
SUMMARY:Ellis Team Builder!
DESCRIPTION:Private Event!! Book yours Today!
URL:https://canvascorksandforks.com/class/ellis-team-builder/
LOCATION:Schenectady Canvas Corks & Forks\, 402 Union Street\, Schenectady\, 12305\, United States
CATEGORIES:Adult
ATTACH;FMTTYPE=image/jpeg:https://canvascorksandforks.com/wp-content/uploads/MOUNTAINS-AND-FLOWERS-Bonus-2.jpg
GEO:42;-73
X-APPLE-STRUCTURED-LOCATION;VALUE=URI;X-ADDRESS=Schenectady Canvas Corks & Forks 402 Union Street Schenectady 12305 United States;X-APPLE-RADIUS=500;X-TITLE=402 Union Street:geo:-73,42
END:VEVENT
BEGIN:VEVENT
DTSTART;TZID=America/New_York:20260531T140000
DTEND;TZID=America/New_York:20260531T160000
DTSTAMP:20260425T171141
CREATED:20260304T013728Z
LAST-MODIFIED:20260330T205633Z
UID:10002307-1780236000-1780243200@canvascorksandforks.com
SUMMARY:Get your cowgirl painted hat on!! Highlander Cow! Sangria Specials!
DESCRIPTION:Very excited to offer our NEW cowgirl hat painting class!  Pre-drawn lines!
URL:https://canvascorksandforks.com/class/get-your-cowgirl-painted-hat-on-highlander-cow-mimosa-bar/
LOCATION:Schenectady Canvas Corks & Forks\, 402 Union Street\, Schenectady\, 12305\, United States
CATEGORIES:Adult,Children
ATTACH;FMTTYPE=image/webp:https://canvascorksandforks.com/wp-content/uploads/hat-highlander.webp
GEO:42;-73
X-APPLE-STRUCTURED-LOCATION;VALUE=URI;X-ADDRESS=Schenectady Canvas Corks & Forks 402 Union Street Schenectady 12305 United States;X-APPLE-RADIUS=500;X-TITLE=402 Union Street:geo:-73,42
END:VEVENT
END:VCALENDAR